BEGIN:VCALENDAR
VERSION:2.0
PRODID:-//Australian Doctors Federation - ECPv6.0.13//NONSGML v1.0//EN
CALSCALE:GREGORIAN
METHOD:PUBLISH
X-WR-CALNAME:Australian Doctors Federation
X-ORIGINAL-URL:https://ausdoctorsfederation.org.au
X-WR-CALDESC:Events for Australian Doctors Federation
REFRESH-INTERVAL;VALUE=DURATION:PT1H
X-Robots-Tag:noindex
X-PUBLISHED-TTL:PT1H
BEGIN:VTIMEZONE
TZID:Australia/Sydney
BEGIN:STANDARD
TZOFFSETFROM:+1100
TZOFFSETTO:+1000
TZNAME:AEST
DTSTART:20210403T160000
END:STANDARD
BEGIN:DAYLIGHT
TZOFFSETFROM:+1000
TZOFFSETTO:+1100
TZNAME:AEDT
DTSTART:20211002T160000
END:DAYLIGHT
BEGIN:STANDARD
TZOFFSETFROM:+1100
TZOFFSETTO:+1000
TZNAME:AEST
DTSTART:20220402T160000
END:STANDARD
BEGIN:DAYLIGHT
TZOFFSETFROM:+1000
TZOFFSETTO:+1100
TZNAME:AEDT
DTSTART:20221001T160000
END:DAYLIGHT
END:VTIMEZONE
BEGIN:VEVENT
DTSTART;TZID=Australia/Sydney:20220411T200000
DTEND;TZID=Australia/Sydney:20220411T210000
DTSTAMP:20260421T183109
CREATED:20220218T052133Z
LAST-MODIFIED:20230207T140015Z
UID:7655-1649707200-1649710800@ausdoctorsfederation.org.au
SUMMARY:ADF Let's Talk Medicine - Why Pharmacist Prescribing is the Wrong Prescription for Patients
DESCRIPTION:Hosted\nDr Shaun Rudd\nDirector Australian Doctors’ Federation \nGuest Speaker\nDr Nicholas Yim\nMBBS BPharm FRACGP \nWhen\nMonday 11th April\, 2022\n8pm AEST \nEvent Cancelled
URL:https://ausdoctorsfederation.org.au/event/adf-lets-talk-medicine-why-pharmacist-prescribing-is-the-wrong-prescription-for-patients/
CATEGORIES:Meetings,Online
ATTACH;FMTTYPE=image/jpeg:https://ausdoctorsfederation.org.au/wp-content/uploads/2022/02/LTPharmacy_900X506-01.jpg
ORGANIZER;CN="Stephen%20Milgate":MAILTO:info@ausdoctorsfederation.org.au
END:VEVENT
BEGIN:VEVENT
DTSTART;TZID=Australia/Sydney:20220221T200000
DTEND;TZID=Australia/Sydney:20220221T213000
DTSTAMP:20260421T183109
CREATED:20220206T114421Z
LAST-MODIFIED:20230207T140054Z
UID:8019-1645473600-1645479000@ausdoctorsfederation.org.au
SUMMARY:Let's Talk The Future Of Australian Private Hospitals
DESCRIPTION:Hosted\nDr Aniello Iannuzzi\nChairman\, Australian Doctors’ Federation \nGuest Speaker\nMr Michael Roff\nCEO\, Australian Private Hospitals Association \nWhen\nMonday 21st Feb\, 2022\n8pm AEDT
URL:https://ausdoctorsfederation.org.au/event/lets-talk-the-future-of-australian-private-hospitals/
CATEGORIES:Meetings,Online
ATTACH;FMTTYPE=image/jpeg:https://ausdoctorsfederation.org.au/wp-content/uploads/2022/02/LTPRIVHOSPITALS_900X506-web1.jpg
ORGANIZER;CN="Stephen%20Milgate":MAILTO:info@ausdoctorsfederation.org.au
END:VEVENT
BEGIN:VEVENT
DTSTART;TZID=Australia/Sydney:20210620T100000
DTEND;TZID=Australia/Sydney:20210620T110000
DTSTAMP:20260421T183109
CREATED:20210603T051459Z
LAST-MODIFIED:20230207T034205Z
UID:7291-1624183200-1624186800@ausdoctorsfederation.org.au
SUMMARY:Managed Care - The threat to YOUR practice - It's time NOW
DESCRIPTION:ASOS National Chairman Dr Simon Coffey and other invited speakers will outline the implications of the ACCC Draft Determination on Honeysuckle Health and options going forward. \nThis meeting will be broadcast to all rural\, regional and interstate members on Zoom. \nAll Orthopaedic surgeons & registrars who are concerned about the implications of Managed Care being introduced into Australia are welcomed to attend. \nMembers of the Council of Procedural Specialists are also invited to attend. \nThis is a FREE event – book early as there are limited spots. \n  \nFor Bookings \nIn Person:  https://www.trybooking.com/BRXLS \nOnline webinar: https://www.trybooking.com/BRYDF
URL:https://ausdoctorsfederation.org.au/event/managed-care-the-threat-to-your-practice-its-time-now/
LOCATION:The Venue\, alexandria\, 55 Doody St\, Alexandria\, NSW\, 2215\, Australia
CATEGORIES:Meetings,Online
ATTACH;FMTTYPE=image/jpeg:https://ausdoctorsfederation.org.au/wp-content/uploads/2021/06/managed-care-event-v2a.jpg
ORGANIZER;CN="Stephen%20Milgate":MAILTO:info@ausdoctorsfederation.org.au
END:VEVENT
END:VCALENDAR